BEGIN:VCALENDAR
VERSION:2.0
PRODID:-//Verschwisterung//Event//DE
CALSCALE:GREGORIAN
METHOD:PUBLISH
BEGIN:VEVENT
UID:d4542d72d8b32ec13996@verschwisterung.eu
DTSTAMP:20260423T163131Z
DTSTART:20260807T000000Z
DTEND:20260809T000000Z
SUMMARY:Verschwisterungsfest
LOCATION:Wendelinuspark
URL:https://verschwisterung.eu/events/verschwisterungsfest-2026-08-07/
END:VEVENT
END:VCALENDAR
